BEGIN:VCALENDAR
VERSION:2.0
PRODID:-//Three Sisters Park - ECPv6.15.20//NONSGML v1.0//EN
CALSCALE:GREGORIAN
METHOD:PUBLISH
X-ORIGINAL-URL:https://three-sisters-park.com
X-WR-CALDESC:Events for Three Sisters Park
REFRESH-INTERVAL;VALUE=DURATION:PT1H
X-Robots-Tag:noindex
X-PUBLISHED-TTL:PT1H
BEGIN:VTIMEZONE
TZID:UTC
BEGIN:STANDARD
TZOFFSETFROM:+0000
TZOFFSETTO:+0000
TZNAME:UTC
DTSTART:20230101T000000
END:STANDARD
END:VTIMEZONE
BEGIN:VEVENT
DTSTART;TZID=UTC:20240315T180000
DTEND;TZID=UTC:20240315T220000
DTSTAMP:20260422T120536
CREATED:20240130T155649Z
LAST-MODIFIED:20240130T155752Z
UID:1024-1710525600-1710540000@three-sisters-park.com
SUMMARY:Party in the Park: Dueling Pianos
DESCRIPTION:Get ready for a unique nightlife experience for adults 21+! Come sing\, dance and “Party In the Park” while the most versatile and talented musicians perform your favorite songs from 80’s rock\, 90’s pop and today’s dance hits on the piano and more in a high-energy show!\nPART FUNDRAISER\, PART CONCERT\, ALL FUN!\nEvent is a fundraiser for the “Play For All” campaign of the Chillicothe Parks Foundation.\nTickets Available: https://givebutter.com/partyintheparkduelingpianos
URL:https://three-sisters-park.com/event/party-in-the-park-dueling-pianos/
LOCATION:IL
ATTACH;FMTTYPE=image/jpeg:https://three-sisters-park.com/wp-content/uploads/2024/01/Dueling-Pianos.jpg
END:VEVENT
END:VCALENDAR