BEGIN:VCALENDAR
VERSION:2.0
PRODID:-//Three Sisters Park - ECPv6.15.20//NONSGML v1.0//EN
CALSCALE:GREGORIAN
METHOD:PUBLISH
X-ORIGINAL-URL:https://three-sisters-park.com
X-WR-CALDESC:Events for Three Sisters Park
REFRESH-INTERVAL;VALUE=DURATION:PT1H
X-Robots-Tag:noindex
X-PUBLISHED-TTL:PT1H
BEGIN:VTIMEZONE
TZID:UTC
BEGIN:STANDARD
TZOFFSETFROM:+0000
TZOFFSETTO:+0000
TZNAME:UTC
DTSTART:20230101T000000
END:STANDARD
END:VTIMEZONE
BEGIN:VEVENT
DTSTART;TZID=UTC:20240802T080000
DTEND;TZID=UTC:20240804T170000
DTSTAMP:20260420T035459
CREATED:20231213T190836Z
LAST-MODIFIED:20240617T165344Z
UID:985-1722585600-1722790800@three-sisters-park.com
SUMMARY:Ledgestone Disc Golf Tournament
DESCRIPTION:Come out and watch one of the auxiliary courses for the Ledgestone Disc Golf tournament!  No admission fee.  Concessions available.
URL:https://three-sisters-park.com/event/ledgestone-disc-golf-tournament/
LOCATION:Three Sisters Park\, 17189 IL-29\, Chillicothe\, IL\, 61523\, United States
ATTACH;FMTTYPE=image/jpeg:https://three-sisters-park.com/wp-content/uploads/2023/12/2024lso-color-scaled.jpg
END:VEVENT
END:VCALENDAR