BEGIN:VCALENDAR
VERSION:2.0
PRODID:-//Three Sisters Park - ECPv6.15.20//NONSGML v1.0//EN
CALSCALE:GREGORIAN
METHOD:PUBLISH
X-WR-CALNAME:Three Sisters Park
X-ORIGINAL-URL:https://three-sisters-park.com
X-WR-CALDESC:Events for Three Sisters Park
REFRESH-INTERVAL;VALUE=DURATION:PT1H
X-Robots-Tag:noindex
X-PUBLISHED-TTL:PT1H
BEGIN:VTIMEZONE
TZID:UTC
BEGIN:STANDARD
TZOFFSETFROM:+0000
TZOFFSETTO:+0000
TZNAME:UTC
DTSTART:20230101T000000
END:STANDARD
END:VTIMEZONE
BEGIN:VEVENT
DTSTART;TZID=UTC:20240921T080000
DTEND;TZID=UTC:20240922T170000
DTSTAMP:20260420T022131
CREATED:20231213T191059Z
LAST-MODIFIED:20231213T191059Z
UID:987-1726905600-1727024400@three-sisters-park.com
SUMMARY:PAARC Midwest Superfest
DESCRIPTION:Ham radio festival including vendors\, testing\, demonstrations\, food\, drinks\, and MORE!
URL:https://three-sisters-park.com/event/paarc-midwest-superfest/
LOCATION:Three Sisters Park\, 17189 IL-29\, Chillicothe\, IL\, 61523\, United States
ATTACH;FMTTYPE=image/webp:https://three-sisters-park.com/wp-content/uploads/2023/07/PAARC.webp
END:VEVENT
END:VCALENDAR