BEGIN:VCALENDAR
VERSION:2.0
PRODID:-//Three Sisters Park - ECPv6.15.20//NONSGML v1.0//EN
CALSCALE:GREGORIAN
METHOD:PUBLISH
X-WR-CALNAME:Three Sisters Park
X-ORIGINAL-URL:https://three-sisters-park.com
X-WR-CALDESC:Events for Three Sisters Park
REFRESH-INTERVAL;VALUE=DURATION:PT1H
X-Robots-Tag:noindex
X-PUBLISHED-TTL:PT1H
BEGIN:VTIMEZONE
TZID:UTC
BEGIN:STANDARD
TZOFFSETFROM:+0000
TZOFFSETTO:+0000
TZNAME:UTC
DTSTART:20230101T000000
END:STANDARD
END:VTIMEZONE
BEGIN:VEVENT
DTSTART;TZID=UTC:20241006T180000
DTEND;TZID=UTC:20241026T230000
DTSTAMP:20260420T003044
CREATED:20241006T001703Z
LAST-MODIFIED:20241006T002310Z
UID:1291-1728237600-1729983600@three-sisters-park.com
SUMMARY:Paranormal Tours
DESCRIPTION:Come ghost hunting in one of our historical buildings with Paranormal Team\, Enlightened Souls. \nWe have joined forces with Enlightened Souls Paranormal investigation group to provide a unique experience investigating a historical building at Three Sisters Park. \nYou will get to investigate the real-life paranormal activity here at Spider Hill.  You will work alongside professional investigators\, and their equipment\, to interact with the spirits.  Then you will get some time to do some investigation of your own with their guidance!  This is a once in a lifetime opportunity to dive deep into the life of the paranormal that you will not want to miss out! \nAdvanced Tickets Required  Tix – Ticket Sales \n 
URL:https://three-sisters-park.com/event/paranormal-tours/
LOCATION:IL
ATTACH;FMTTYPE=image/jpeg:https://three-sisters-park.com/wp-content/uploads/2024/10/enlightened.jpg
END:VEVENT
END:VCALENDAR