BEGIN:VCALENDAR
VERSION:2.0
PRODID:-//Three Sisters Park - ECPv6.15.20//NONSGML v1.0//EN
CALSCALE:GREGORIAN
METHOD:PUBLISH
X-ORIGINAL-URL:https://three-sisters-park.com
X-WR-CALDESC:Events for Three Sisters Park
REFRESH-INTERVAL;VALUE=DURATION:PT1H
X-Robots-Tag:noindex
X-PUBLISHED-TTL:PT1H
BEGIN:VTIMEZONE
TZID:UTC
BEGIN:STANDARD
TZOFFSETFROM:+0000
TZOFFSETTO:+0000
TZNAME:UTC
DTSTART:20230101T000000
END:STANDARD
END:VTIMEZONE
BEGIN:VEVENT
DTSTART;TZID=UTC:20240406T140000
DTEND;TZID=UTC:20240406T230000
DTSTAMP:20260422T085250
CREATED:20240222T174005Z
LAST-MODIFIED:20240222T174005Z
UID:1047-1712412000-1712444400@three-sisters-park.com
SUMMARY:Might Millie
DESCRIPTION:Entertainment\, Firefighter Chili Cook-off\, Raffles\, Cash Bar\, and MORE! \nBenefit to support the Millar family.  Tyler Millar is a local Chillicothe firefighter.  He and his wife recently gave birth to a child that has had many complications\, including premature birth at 27 weeks and a stage 4 brain bleed of unknown origins.
URL:https://three-sisters-park.com/event/might-millie/
LOCATION:Three Sisters Park\, 17189 IL-29\, Chillicothe\, IL\, 61523\, United States
ATTACH;FMTTYPE=image/png:https://three-sisters-park.com/wp-content/uploads/2024/02/MIGHTY-MILLIE_FLYER2.png
END:VEVENT
BEGIN:VEVENT
DTSTART;TZID=UTC:20240413T090000
DTEND;TZID=UTC:20240413T150000
DTSTAMP:20260422T085250
CREATED:20231213T185955Z
LAST-MODIFIED:20231213T185955Z
UID:977-1712998800-1713020400@three-sisters-park.com
SUMMARY:Spring Makers Market
DESCRIPTION:Shoppers come to enjoy this unique shopping experience with hand-picked boutique-style vendors.  They also get to enjoy additional amenities. This event also provides live music\, food\, a specialty cash bar with featured specials\, Goodie Bags for the first 100 shoppers\, and ongoing giveaways.
URL:https://three-sisters-park.com/event/spring-makers-market/
LOCATION:Three Sisters Park\, 17189 IL-29\, Chillicothe\, IL\, 61523\, United States
ATTACH;FMTTYPE=image/jpeg:https://three-sisters-park.com/wp-content/uploads/2023/07/289655811_3258647681040281_8488921748576011436_n.jpg
END:VEVENT
BEGIN:VEVENT
DTSTART;VALUE=DATE:20240420
DTEND;VALUE=DATE:20240421
DTSTAMP:20260422T085250
CREATED:20231213T190335Z
LAST-MODIFIED:20231213T190335Z
UID:979-1713571200-1713657599@three-sisters-park.com
SUMMARY:Spring Loose
DESCRIPTION:The annual fundraiser for Drew’s Plots Inc.\nThings are constantly evolving so stay tuned as we are continually adding new and exciting things!\nMusic\, kids activities\, raffle\, silent auction\, food\, drinks\, frisbee golf tournament\, and MORE!
URL:https://three-sisters-park.com/event/spring-loose/
LOCATION:Three Sisters Park\, 17189 IL-29\, Chillicothe\, IL\, 61523\, United States
ATTACH;FMTTYPE=image/jpeg:https://three-sisters-park.com/wp-content/uploads/2023/12/drews-plots.jpg
END:VEVENT
END:VCALENDAR