BEGIN:VCALENDAR
VERSION:2.0
PRODID:-//Three Sisters Park - ECPv6.15.20//NONSGML v1.0//EN
CALSCALE:GREGORIAN
METHOD:PUBLISH
X-WR-CALNAME:Three Sisters Park
X-ORIGINAL-URL:https://three-sisters-park.com
X-WR-CALDESC:Events for Three Sisters Park
REFRESH-INTERVAL;VALUE=DURATION:PT1H
X-Robots-Tag:noindex
X-PUBLISHED-TTL:PT1H
BEGIN:VTIMEZONE
TZID:UTC
BEGIN:STANDARD
TZOFFSETFROM:+0000
TZOFFSETTO:+0000
TZNAME:UTC
DTSTART:20230101T000000
END:STANDARD
END:VTIMEZONE
BEGIN:VEVENT
DTSTART;TZID=UTC:20240913T180000
DTEND;TZID=UTC:20240913T180000
DTSTAMP:20260420T004055
CREATED:20240807T203316Z
LAST-MODIFIED:20240808T191837Z
UID:1182-1726250400-1726250400@three-sisters-park.com
SUMMARY:Arachna-GLOW-bia Disc Tournament
DESCRIPTION:This tournament will be a singles\, 2-round tournament with each round consisting of 13 holes.. Registration will begin at 6:00 pm with play beginning at 6:30 pm. There will be a break between rounds in which snacks and drinks will be available for purchase. \nUDisc Scoring will be used. If you do not already have an account\, please download and create an account prior to registration. \nCTP’s … $5.00 per player gets you in on all…. \nEach person can purchase TWO MULLIGANS for $5.00 a piece….when used… the person forgoes their first shot and must play their second attempt… can only use 1 on a hole. \nACE POT…$5.00 per player covers you for both rounds…HALF THE ACE POT GOES TO CHARITY \nProceeds will go towards the SLG Cohen Foundation dba Three Sisters Park. Proceeds will be used towards maintaining and improving the disc golf course\, as well as our ongoing agricultural museum project. \nFood and drinks will be available for purchase on-site \nSPECIAL guest characters from SPIDER HILL HAUNTED ATTRACTIONS may pop in as they prepare for their 25TH YEAR of the haunt!!! \nPlease bring your own glow disc/material/etc… to allow for easy visibility of your shots.
URL:https://three-sisters-park.com/event/arachna-glow-bia-disc-tournament/
LOCATION:Three Sisters Park\, 17189 IL-29\, Chillicothe\, IL\, 61523\, United States
ATTACH;FMTTYPE=image/png:https://three-sisters-park.com/wp-content/uploads/2024/08/Arachnaglowbia-Spider-Edition.png
ORGANIZER;CN="Three Sisters Park":MAILTO:sbobbitt@threesisterspark.com
END:VEVENT
BEGIN:VEVENT
DTSTART;TZID=UTC:20240921T080000
DTEND;TZID=UTC:20240922T170000
DTSTAMP:20260420T004055
CREATED:20231213T191059Z
LAST-MODIFIED:20231213T191059Z
UID:987-1726905600-1727024400@three-sisters-park.com
SUMMARY:PAARC Midwest Superfest
DESCRIPTION:Ham radio festival including vendors\, testing\, demonstrations\, food\, drinks\, and MORE!
URL:https://three-sisters-park.com/event/paarc-midwest-superfest/
LOCATION:Three Sisters Park\, 17189 IL-29\, Chillicothe\, IL\, 61523\, United States
ATTACH;FMTTYPE=image/webp:https://three-sisters-park.com/wp-content/uploads/2023/07/PAARC.webp
END:VEVENT
BEGIN:VEVENT
DTSTART;TZID=UTC:20240928T110000
DTEND;TZID=UTC:20240929T110000
DTSTAMP:20260420T004055
CREATED:20240823T192140Z
LAST-MODIFIED:20240823T192140Z
UID:1207-1727521200-1727607600@three-sisters-park.com
SUMMARY:Cycledelic Endurance Ride
DESCRIPTION:From the Cycledelic FaceBook Event Page:\n\nVisit https://www.cycledelicendurance.com/ for more info!\n\nWe are thrilled to announce the Cycledelic Endurance Challenge for St. Jude. We have designed an event challenging to all. This off-road Cycling event features a 4+ mile closed loop course including gravel\, grass\, dirt\, and pavement. Challenge yourself as an individual or with a team to complete as many miles as you can with two options of 6 hours or 24. All participants will be timed and awards will be earned for overall and in each class. Join us Sept. 28-29\, 2024 at Three Sisters Park in Chillicothe\, IL in support of the St. Jude Children’s Research Hospital.\nParticipants who raise $500 or more will receive an official St. Jude branded cycling jersey. Invite friends and family to donate\, cheer you on\, or join you as you ride. Have fun and help us raise funds for the kids of St. Jude.\nHelp St. Jude Children’s Research Hospital continue to lead the way the world understands\, treats and defeats childhood cancer and other life-threatening diseases.\n\nTreatments invented at St. Jude have helped push the overall childhood cancer survival rate from 20% to more than 80% since it opened in 1962. And they won’t stop until NO child dies from cancer.\nRegister today and start fundraising for the kids of St. Jude.\n\nPLEASE NOTE:• All participants must be 18 years or older.• Team Sizes: up to 3 riders for the 6-hours and up to 12 riders for the 24-hours.• Once you register you will receive an email to verify duration (6- or 24-hour)\, team sizes\, and camping options.
URL:https://three-sisters-park.com/event/cycledelic-endurance-ride/
LOCATION:Three Sisters Park\, 17189 IL-29\, Chillicothe\, IL\, 61523\, United States
ATTACH;FMTTYPE=image/webp:https://three-sisters-park.com/wp-content/uploads/2024/08/cycle-2-scaled.webp
END:VEVENT
END:VCALENDAR